BEGIN:VCALENDAR
VERSION:2.0
PRODID:-//In One Accord - ECPv6.15.20//NONSGML v1.0//EN
CALSCALE:GREGORIAN
METHOD:PUBLISH
X-WR-CALNAME:In One Accord
X-ORIGINAL-URL:https://inoneaccord.com
X-WR-CALDESC:Events for In One Accord
REFRESH-INTERVAL;VALUE=DURATION:PT1H
X-Robots-Tag:noindex
X-PUBLISHED-TTL:PT1H
BEGIN:VTIMEZONE
TZID:America/Denver
BEGIN:DAYLIGHT
TZOFFSETFROM:-0700
TZOFFSETTO:-0600
TZNAME:MDT
DTSTART:20220313T090000
END:DAYLIGHT
BEGIN:STANDARD
TZOFFSETFROM:-0600
TZOFFSETTO:-0700
TZNAME:MST
DTSTART:20221106T080000
END:STANDARD
BEGIN:DAYLIGHT
TZOFFSETFROM:-0700
TZOFFSETTO:-0600
TZNAME:MDT
DTSTART:20230312T090000
END:DAYLIGHT
BEGIN:STANDARD
TZOFFSETFROM:-0600
TZOFFSETTO:-0700
TZNAME:MST
DTSTART:20231105T080000
END:STANDARD
BEGIN:DAYLIGHT
TZOFFSETFROM:-0700
TZOFFSETTO:-0600
TZNAME:MDT
DTSTART:20240310T090000
END:DAYLIGHT
BEGIN:STANDARD
TZOFFSETFROM:-0600
TZOFFSETTO:-0700
TZNAME:MST
DTSTART:20241103T080000
END:STANDARD
END:VTIMEZONE
BEGIN:VEVENT
DTSTART;TZID=America/Denver:20230322T080000
DTEND;TZID=America/Denver:20230322T170000
DTSTAMP:20260422T140009
CREATED:20230303T190236Z
LAST-MODIFIED:20230303T190236Z
UID:1192-1679472000-1679504400@inoneaccord.com
SUMMARY:Register for Webinar 2 (test)
DESCRIPTION:In order to receive a link to our Zoom webinar\, please register for the event and await a return email with the private Zoom link. Thank you!
URL:https://inoneaccord.com/event/register-for-webinar-2-test-2/
CATEGORIES:Private webinars
ATTACH;FMTTYPE=image/jpeg:https://inoneaccord.com/wp-content/uploads/2022/10/IMG_2741-scaled.jpeg
END:VEVENT
BEGIN:VEVENT
DTSTART;TZID=America/Denver:20230322T080000
DTEND;TZID=America/Denver:20230322T170000
DTSTAMP:20260422T140009
CREATED:20230223T194025Z
LAST-MODIFIED:20230223T195150Z
UID:1178-1679472000-1679504400@inoneaccord.com
SUMMARY:Register for Webinar 2 (test)
DESCRIPTION:In order to receive a link to our Zoom webinar\, please register for the event and await a return email with the private Zoom link. Thank you!
URL:https://inoneaccord.com/event/register-for-webinar-2-test/
CATEGORIES:Private webinars
END:VEVENT
BEGIN:VEVENT
DTSTART;TZID=America/Denver:20230314T080000
DTEND;TZID=America/Denver:20230314T170000
DTSTAMP:20260422T140009
CREATED:20230223T192557Z
LAST-MODIFIED:20230223T195002Z
UID:1168-1678780800-1678813200@inoneaccord.com
SUMMARY:Register for Webinar (test)
DESCRIPTION:In order to receive a link to our Zoom webinar\, please register for the event and await a return email with the private zoom link. Thank you!
URL:https://inoneaccord.com/event/register-for-webinar-test/
END:VEVENT
END:VCALENDAR